BEGIN:VCALENDAR
VERSION:2.0
PRODID:-//The Park 707 - ECPv6.15.15//NONSGML v1.0//EN
CALSCALE:GREGORIAN
METHOD:PUBLISH
X-WR-CALNAME:The Park 707
X-ORIGINAL-URL:https://thepark707.com
X-WR-CALDESC:Events for The Park 707
REFRESH-INTERVAL;VALUE=DURATION:PT1H
X-Robots-Tag:noindex
X-PUBLISHED-TTL:PT1H
BEGIN:VTIMEZONE
TZID:America/Denver
BEGIN:DAYLIGHT
TZOFFSETFROM:-0700
TZOFFSETTO:-0600
TZNAME:MDT
DTSTART:20250309T090000
END:DAYLIGHT
BEGIN:STANDARD
TZOFFSETFROM:-0600
TZOFFSETTO:-0700
TZNAME:MST
DTSTART:20251102T080000
END:STANDARD
BEGIN:DAYLIGHT
TZOFFSETFROM:-0700
TZOFFSETTO:-0600
TZNAME:MDT
DTSTART:20260308T090000
END:DAYLIGHT
BEGIN:STANDARD
TZOFFSETFROM:-0600
TZOFFSETTO:-0700
TZNAME:MST
DTSTART:20261101T080000
END:STANDARD
BEGIN:DAYLIGHT
TZOFFSETFROM:-0700
TZOFFSETTO:-0600
TZNAME:MDT
DTSTART:20270314T090000
END:DAYLIGHT
BEGIN:STANDARD
TZOFFSETFROM:-0600
TZOFFSETTO:-0700
TZNAME:MST
DTSTART:20271107T080000
END:STANDARD
END:VTIMEZONE
BEGIN:VEVENT
DTSTART;TZID=America/Denver:20260418T193000
DTEND;TZID=America/Denver:20260418T230000
DTSTAMP:20260424T024428
CREATED:20260324T173648Z
LAST-MODIFIED:20260324T173648Z
UID:976-1776540600-1776553200@thepark707.com
SUMMARY:Stereotrip & Rooted Souls
DESCRIPTION:Saturday\, April 18 at The 707 🔥 \nGet ready for a high-energy night of live music as Stereotrip takes the stage with a special reunion set from Rooted Souls. \nStereotrip\, a Black Hills favorite\, brings the party with electrifying covers from artists like Bruno Mars\, Rihanna\, Queen\, and more—keeping the dance floor moving all night. \nKicking things off\, Rooted Souls returns for a special reunion performance\, blending family voices\, tight harmonies\, and a soulful sound that hits straight to the heart. It’s a rare chance to catch their signature energy and connection live on stage again. \nFree General Admission (very limited seating)\n$15 VIP – Guaranteed seat\, tab service\, expedited entry \nDoors: 7PM\nShow: 7:30PM\n21+ Only\nTickets are transferable but non-refundable
URL:https://thepark707.com/event/stereotrip-rooted-souls/
LOCATION:The Park 707\, 707 Mtn View Rd\, Rapid City\, SD\, 57701\, United States
CATEGORIES:Concert,Entertainment
ATTACH;FMTTYPE=image/jpeg:https://thepark707.com/wp-content/uploads/2026/03/ST_compressed.jpg
END:VEVENT
END:VCALENDAR