BEGIN:VCALENDAR
VERSION:2.0
PRODID:-//The Park 707 - ECPv6.15.15//NONSGML v1.0//EN
CALSCALE:GREGORIAN
METHOD:PUBLISH
X-WR-CALNAME:The Park 707
X-ORIGINAL-URL:https://thepark707.com
X-WR-CALDESC:Events for The Park 707
REFRESH-INTERVAL;VALUE=DURATION:PT1H
X-Robots-Tag:noindex
X-PUBLISHED-TTL:PT1H
BEGIN:VTIMEZONE
TZID:America/Denver
BEGIN:DAYLIGHT
TZOFFSETFROM:-0700
TZOFFSETTO:-0600
TZNAME:MDT
DTSTART:20250309T090000
END:DAYLIGHT
BEGIN:STANDARD
TZOFFSETFROM:-0600
TZOFFSETTO:-0700
TZNAME:MST
DTSTART:20251102T080000
END:STANDARD
BEGIN:DAYLIGHT
TZOFFSETFROM:-0700
TZOFFSETTO:-0600
TZNAME:MDT
DTSTART:20260308T090000
END:DAYLIGHT
BEGIN:STANDARD
TZOFFSETFROM:-0600
TZOFFSETTO:-0700
TZNAME:MST
DTSTART:20261101T080000
END:STANDARD
BEGIN:DAYLIGHT
TZOFFSETFROM:-0700
TZOFFSETTO:-0600
TZNAME:MDT
DTSTART:20270314T090000
END:DAYLIGHT
BEGIN:STANDARD
TZOFFSETFROM:-0600
TZOFFSETTO:-0700
TZNAME:MST
DTSTART:20271107T080000
END:STANDARD
END:VTIMEZONE
BEGIN:VEVENT
DTSTART;TZID=America/Denver:20260501T190000
DTEND;TZID=America/Denver:20260501T220000
DTSTAMP:20260420T073254
CREATED:20260220T212853Z
LAST-MODIFIED:20260220T222528Z
UID:922-1777662000-1777672800@thepark707.com
SUMMARY:Dakota Country Dance Night
DESCRIPTION:🤠 DAKOTA COUNTRY DANCE NIGHT \nFriday\, May 1 | 7–10PM\nInside the 707 Nightlife Venue \nDakota Country is bringing the energy for a full-on country dance party at 707! \nThis is a dance floor event — boots on\, drinks up\, and line dancing all night long. The main floor will be open for dancing\, with cocktail tables available throughout the venue. \n🎟 $7 Pre-Sale\n🎟 $10 At the Door\n⭐ $12 Reserved Tier Seating (limited – guaranteed seat in our tiered section) \nIf you’d like a guaranteed place to sit between songs\, reserved tier seating is available. Otherwise\, grab your crew and hit the dance floor. \nBoot Stompin’ • Drink Specials • Line Dancin’ \n21+ | thepark707.com
URL:https://thepark707.com/event/dakota-country-dance-night/
LOCATION:The Park 707\, 707 Mtn View Rd\, Rapid City\, SD\, 57701\, United States
CATEGORIES:Concert,Entertainment
ATTACH;FMTTYPE=image/jpeg:https://thepark707.com/wp-content/uploads/2026/02/Dakota_Country_Dance_Night_Compressed.jpg
END:VEVENT
BEGIN:VEVENT
DTSTART;TZID=America/Denver:20260502T190000
DTEND;TZID=America/Denver:20260502T230000
DTSTAMP:20260420T073254
CREATED:20260320T002609Z
LAST-MODIFIED:20260320T002609Z
UID:964-1777748400-1777762800@thepark707.com
SUMMARY:Crashing Wayward & Goodfire
DESCRIPTION:🎸 A Night of Rock LIVE at The Park 707 🎸\nCrashing Wayward + Goodfire\nSaturday\, May 2\, 2026 | 21+ \nGet ready for a high-energy night of rock as Crashing Wayward and Goodfire take over The Park 707 for a stacked show. \nCrashing Wayward—voted Best New Vegas Rock Band—brings their explosive sound and national momentum to Rapid City\, while Goodfire\, Sturgis Battle of the Bands winners\, deliver hometown energy and a powerful live performance. \nTwo bands. One stage. All-out rock. \n🕖 Social Hour: 7:00 PM\n🎸 Showtime: 8:00 PM \n🎟 Tickets:\n• $10 GA (Advance) $15 At the door\n• $20 VIP (expedited entry\, reserved seating\, VIP bar) \n📍 707 Nightlife at The Park\n707 Mountain View Rd. \nDon’t miss this stacked night of live rock 🔥
URL:https://thepark707.com/event/crashing-wayward-goodfire/
LOCATION:The Park 707\, 707 Mtn View Rd\, Rapid City\, SD\, 57701\, United States
CATEGORIES:Concert,Entertainment
ATTACH;FMTTYPE=image/jpeg:https://thepark707.com/wp-content/uploads/2026/03/vert_compressed.jpg
END:VEVENT
BEGIN:VEVENT
DTSTART;TZID=America/Denver:20260508T190000
DTEND;TZID=America/Denver:20260508T220000
DTSTAMP:20260420T073254
CREATED:20260328T205048Z
LAST-MODIFIED:20260328T205152Z
UID:1001-1778266800-1778277600@thepark707.com
SUMMARY:Jalan Crossland & Cary Morin & Ghost Dog
DESCRIPTION:Jalan Crossland + Cary Morin & Ghost Dog Two powerhouse acts. One unforgettable night May 8 Doors 6PM //  Show 7PMGA Seating is first come — or go VIP for reserved tables & private bar thepark707.com——————————————————————————Experience a night of world-class musicianship as Jalan Crossland joins forces with Cary Morin & Ghost Dog at The Park on Friday\, May 8. Jalan Crossland\, a nationally acclaimed Wyoming artist\, brings award-winning guitar work\, sharp songwriting\, and an unforgettable stage presence shaped by years of sharing stages with legends like Robert Earl Keen and Taj Mahal. Paired with him\, Cary Morin & Ghost Dog deliver a high-energy blend of roots rock\, blues\, and Americana\, led by Morin’s internationally recognized fingerstyle guitar and soulful vocals that have earned praise from NPR and stages like the Kennedy Center.
URL:https://thepark707.com/event/jalan-crossland-cary-morin-ghost-dog/
LOCATION:The Park 707\, 707 Mtn View Rd\, Rapid City\, SD\, 57701\, United States
CATEGORIES:Concert,Entertainment
ATTACH;FMTTYPE=image/jpeg:https://thepark707.com/wp-content/uploads/2026/03/Print.jpg
END:VEVENT
BEGIN:VEVENT
DTSTART;TZID=America/Denver:20260529T190000
DTEND;TZID=America/Denver:20260529T230000
DTSTAMP:20260420T073254
CREATED:20260409T191044Z
LAST-MODIFIED:20260409T191044Z
UID:1040-1780081200-1780095600@thepark707.com
SUMMARY:Noise Pollution- The AC/DC Experience
DESCRIPTION:Noise Pollution – The AC/DC Experience ⚡\nwith special guest Common Law 🎸\nFriday\, May 29th | 7:00 PM | 21+ \nGet ready for a full-throttle night of rock ‘n’ roll as Noise Pollution – The AC/DC Experience takes over The 707 stage. Delivering the raw energy\, iconic sound\, and electrifying presence of one of the greatest rock bands of all time\, this is more than a tribute — it’s a full-on concert experience 🔥 \nKicking off the night is special guest Common Law\, bringing the energy early and setting the tone for a big night ⚡ \nTicket Info:\n• General Admission: $20 presale / $25 at the door\nStanding room show with cocktail tables — set your drink down and hit the dance floor 🍻 \n\nVIP: Reserved table seating\, exclusive VIP bar\, and tab service for the evening ⭐\n\nDoors at 6PM // Show at 7PM\nTickets are transferable but non-refundable \n👉 Don’t wait — this one’s built to sell out.
URL:https://thepark707.com/event/noise-pollution-the-ac-dc-experience/
LOCATION:The Park 707\, 707 Mtn View Rd\, Rapid City\, SD\, 57701\, United States
CATEGORIES:Concert,Entertainment
ATTACH;FMTTYPE=image/png:https://thepark707.com/wp-content/uploads/2026/04/imagepng_0.png
END:VEVENT
END:VCALENDAR