BEGIN:VCALENDAR
VERSION:2.0
PRODID:-//The Park 707 - ECPv6.15.15//NONSGML v1.0//EN
CALSCALE:GREGORIAN
METHOD:PUBLISH
X-ORIGINAL-URL:https://thepark707.com
X-WR-CALDESC:Events for The Park 707
REFRESH-INTERVAL;VALUE=DURATION:PT1H
X-Robots-Tag:noindex
X-PUBLISHED-TTL:PT1H
BEGIN:VTIMEZONE
TZID:America/Denver
BEGIN:DAYLIGHT
TZOFFSETFROM:-0700
TZOFFSETTO:-0600
TZNAME:MDT
DTSTART:20250309T090000
END:DAYLIGHT
BEGIN:STANDARD
TZOFFSETFROM:-0600
TZOFFSETTO:-0700
TZNAME:MST
DTSTART:20251102T080000
END:STANDARD
BEGIN:DAYLIGHT
TZOFFSETFROM:-0700
TZOFFSETTO:-0600
TZNAME:MDT
DTSTART:20260308T090000
END:DAYLIGHT
BEGIN:STANDARD
TZOFFSETFROM:-0600
TZOFFSETTO:-0700
TZNAME:MST
DTSTART:20261101T080000
END:STANDARD
BEGIN:DAYLIGHT
TZOFFSETFROM:-0700
TZOFFSETTO:-0600
TZNAME:MDT
DTSTART:20270314T090000
END:DAYLIGHT
BEGIN:STANDARD
TZOFFSETFROM:-0600
TZOFFSETTO:-0700
TZNAME:MST
DTSTART:20271107T080000
END:STANDARD
END:VTIMEZONE
BEGIN:VEVENT
DTSTART;TZID=America/Denver:20260605T190000
DTEND;TZID=America/Denver:20260605T220000
DTSTAMP:20260420T090206
CREATED:20260401T193726Z
LAST-MODIFIED:20260401T193726Z
UID:1023-1780686000-1780696800@thepark707.com
SUMMARY:Mic Drop Karaoke Finals
DESCRIPTION:🎤 Mic Drop Karaoke Competition Finals 🎤 \nYou’ve watched them battle it out… now it’s time for the best of the best to take the stage 🔥 \nJoin us for the Mic Drop Karaoke Competition Finals at The 707 Nightlife as our top finalists go head-to-head for the win. Bring your friends\, cheer on your favorite contestants\, and get ready for a night of big voices\, big energy\, and serious competition. \n🏆 Prizes:🥇 1st Place: Trip to Vegas + $2\,000 spending cash🥈 2nd Place: $1\,500 cash🥉 3rd Place: $1\,000 cash \n📅 Date: June 5- 707 Nightlife Venue⏰ Time: TBD🎟️ Admission: FREE \nWhether you’ve been following the competition or just want a fun night out\, this is one you won’t want to miss 🎤✨
URL:https://thepark707.com/event/mic-drop-karaoke-finals/
LOCATION:The Park 707\, 707 Mtn View Rd\, Rapid City\, SD\, 57701\, United States
CATEGORIES:Entertainment
ATTACH;FMTTYPE=image/jpeg:https://thepark707.com/wp-content/uploads/2026/04/finals-compressed.jpg
END:VEVENT
END:VCALENDAR