BEGIN:VCALENDAR
VERSION:2.0
PRODID:-//The Park 707 - ECPv6.15.15//NONSGML v1.0//EN
CALSCALE:GREGORIAN
METHOD:PUBLISH
X-WR-CALNAME:The Park 707
X-ORIGINAL-URL:https://thepark707.com
X-WR-CALDESC:Events for The Park 707
REFRESH-INTERVAL;VALUE=DURATION:PT1H
X-Robots-Tag:noindex
X-PUBLISHED-TTL:PT1H
BEGIN:VTIMEZONE
TZID:America/Denver
BEGIN:DAYLIGHT
TZOFFSETFROM:-0700
TZOFFSETTO:-0600
TZNAME:MDT
DTSTART:20250309T090000
END:DAYLIGHT
BEGIN:STANDARD
TZOFFSETFROM:-0600
TZOFFSETTO:-0700
TZNAME:MST
DTSTART:20251102T080000
END:STANDARD
BEGIN:DAYLIGHT
TZOFFSETFROM:-0700
TZOFFSETTO:-0600
TZNAME:MDT
DTSTART:20260308T090000
END:DAYLIGHT
BEGIN:STANDARD
TZOFFSETFROM:-0600
TZOFFSETTO:-0700
TZNAME:MST
DTSTART:20261101T080000
END:STANDARD
BEGIN:DAYLIGHT
TZOFFSETFROM:-0700
TZOFFSETTO:-0600
TZNAME:MDT
DTSTART:20270314T090000
END:DAYLIGHT
BEGIN:STANDARD
TZOFFSETFROM:-0600
TZOFFSETTO:-0700
TZNAME:MST
DTSTART:20271107T080000
END:STANDARD
END:VTIMEZONE
BEGIN:VEVENT
DTSTART;TZID=America/Denver:20260606T100000
DTEND;TZID=America/Denver:20260606T200000
DTSTAMP:20260420T073031
CREATED:20260413T181610Z
LAST-MODIFIED:20260413T181610Z
UID:1045-1780740000-1780776000@thepark707.com
SUMMARY:Autism Awareness Cornhole Tournament
DESCRIPTION:Join us at 707 Sports Bar & Nightlife on June 6th for an Autism Awareness Cornhole Tournament 💙 \nDoors open at 10AM with a blind draw starting at 11AM ($20 per person). Rounders will split into two brackets\, followed by a BYOP double elimination tournament around 4PM ($50 per team). \n70% payout in all brackets with added money and an airmail contest. Plus\, don’t miss the raffle—$10 for 20 tickets! \nCome out\, compete\, and support a great cause 🙌For more info\, contact Brian Ostrander at 605-880-9069.
URL:https://thepark707.com/event/autism-awareness-cornhole-tournament/
LOCATION:The Park 707\, 707 Mtn View Rd\, Rapid City\, SD\, 57701\, United States
ATTACH;FMTTYPE=image/jpeg:https://thepark707.com/wp-content/uploads/2026/04/Cornhole-Tourney.jpeg
END:VEVENT
END:VCALENDAR